BEGIN:VCALENDAR
VERSION:2.0
PRODID:-//Kreatywna Pantera - ECPv6.7.0//NONSGML v1.0//EN
CALSCALE:GREGORIAN
METHOD:PUBLISH
X-WR-CALNAME:Kreatywna Pantera
X-ORIGINAL-URL:https://kreatywnapantera.art
X-WR-CALDESC:Events for Kreatywna Pantera
REFRESH-INTERVAL;VALUE=DURATION:PT1H
X-Robots-Tag:noindex
X-PUBLISHED-TTL:PT1H
BEGIN:VTIMEZONE
TZID:UTC
BEGIN:STANDARD
TZOFFSETFROM:+0000
TZOFFSETTO:+0000
TZNAME:UTC
DTSTART:20240101T000000
END:STANDARD
END:VTIMEZONE
BEGIN:VEVENT
DTSTART;TZID=UTC:20240922T170000
DTEND;TZID=UTC:20240922T183000
DTSTAMP:20260422T003453
CREATED:20240918T103159Z
LAST-MODIFIED:20240918T103159Z
UID:2334-1727024400-1727029800@kreatywnapantera.art
SUMMARY:Księżniczka Czardasza
DESCRIPTION:
URL:https://kreatywnapantera.art/event/ksiezniczka-czardasza/
LOCATION:Bytomskie Centrum Kultury
ATTACH;FMTTYPE=image/png:https://kreatywnapantera.art/wp-content/uploads/2024/09/Ksiezniczka-Czardasza-plakat.png
END:VEVENT
END:VCALENDAR